BEGIN:VCALENDAR
METHOD:PUBLISH
PRODID:-//Weblication CMS
VERSION:2.0
BEGIN:VEVENT
SUMMARY:Die Kunst sich die Schuhe zu binden in der Stadtbibliothek
DTSTART:20230511T180000
DTEND:20230511T210000
DESCRIPTION:Inklusiver Kinoabend im Herzen von Viersen
LOCATION:Viersen
UID:https://www.lebenshilfe-viersen.de/de/veranstaltungen/termine/InKinosion-2023-05-11-Viersen-Stadtbibliothek.php
URL:https://www.lebenshilfe-viersen.de/de/veranstaltungen/termine/InKinosion-2023-05-11-Viersen-Stadtbibliothek.php
END:VEVENT
END:VCALENDAR