BEGIN:VCALENDAR
METHOD:PUBLISH
PRODID:-//Weblication CMS
VERSION:2.0
BEGIN:VEVENT
SUMMARY:The Peanut Butter Falcon im ALO
DTSTART:20230615T180000
DTEND:20230615T210000
DESCRIPTION:Inklusiver Kinoabend im Kinder- und Jugendzentrum in Dülken
LOCATION:Viersen-Dülken
UID:https://www.lebenshilfe-viersen.de/de/veranstaltungen/termine/InKinosion-2023-06-15-Duelken-ALO-Jugendzentrum.php
URL:https://www.lebenshilfe-viersen.de/de/veranstaltungen/termine/InKinosion-2023-06-15-Duelken-ALO-Jugendzentrum.php
END:VEVENT
END:VCALENDAR