BEGIN:VCALENDAR
METHOD:PUBLISH
PRODID:-//Weblication CMS
VERSION:2.0
BEGIN:VEVENT
SUMMARY:Wunder
DTSTART:20231116T180000
DTEND:20231116T210000
DESCRIPTION:Inklusiver Kinoabend im Kinder- und Jugendzentrum in Dülken
LOCATION:Viersen-Dülken
UID:https://www.lebenshilfe-viersen.de/de/veranstaltungen/termine/InKinosion-2023-11-16-Duelken-ALO-Jugendzentrum.php
URL:https://www.lebenshilfe-viersen.de/de/veranstaltungen/termine/InKinosion-2023-11-16-Duelken-ALO-Jugendzentrum.php
END:VEVENT
END:VCALENDAR