BEGIN:VCALENDAR
METHOD:PUBLISH
PRODID:-//Weblication CMS
VERSION:2.0
BEGIN:VEVENT
SUMMARY:Nebel im August
DTSTART:20240123T180000
DTEND:20240123T210000
DESCRIPTION:Inklusiver Kinoabend im Herzen von Viersen
LOCATION:Viersen
UID:https://www.lebenshilfe-viersen.de/de/veranstaltungen/termine/InKinosion-2024-01-23-Viersen-Stadtbibliothek.php
URL:https://www.lebenshilfe-viersen.de/de/veranstaltungen/termine/InKinosion-2024-01-23-Viersen-Stadtbibliothek.php
END:VEVENT
END:VCALENDAR