BEGIN:VCALENDAR
METHOD:PUBLISH
PRODID:-//Weblication CMS
VERSION:2.0
BEGIN:VEVENT
SUMMARY:Der Wald in mir
DTSTART:20250617T180000
DTEND:20250617T210000
DESCRIPTION:Inklusiver Kinoabend im Kulturzentrum Königsburg in Süchteln
LOCATION:Viersen-Süchteln
UID:https://www.lebenshilfe-viersen.de/de/veranstaltungen/termine/InKinosion-2025-06-17-Suechteln-Koenigsburg.php
URL:https://www.lebenshilfe-viersen.de/de/veranstaltungen/termine/InKinosion-2025-06-17-Suechteln-Koenigsburg.php
END:VEVENT
END:VCALENDAR