BEGIN:VCALENDAR
METHOD:PUBLISH
PRODID:-//Weblication CMS
VERSION:2.0
BEGIN:VEVENT
SUMMARY:Rechtsberatung für Mitglieder
DTSTART:20260202T170000
DTEND:20260202T190000
DESCRIPTION:Nur mit Anmeldung - koordiniert durch den Familienunterstützenden Dienst (FuD). Rechtsberatung der Rechtsanwältin Sandra Fabian zu Rechtsfragen im Bereich der Behindertenhilfe.
LOCATION:Tönisvorst-Vorst
UID:https://www.lebenshilfe-viersen.de/de/veranstaltungen/termine/OH-Rechtsberatung-Fabian.php
URL:https://www.lebenshilfe-viersen.de/de/veranstaltungen/termine/OH-Rechtsberatung-Fabian.php
END:VEVENT
BEGIN:VEVENT
SUMMARY:Rechtsberatung für Mitglieder
DTSTART:20260504T170000
DTEND:20260504T190000
DESCRIPTION:Nur mit Anmeldung - koordiniert durch den Familienunterstützenden Dienst (FuD). Rechtsberatung der Rechtsanwältin Sandra Fabian zu Rechtsfragen im Bereich der Behindertenhilfe.
LOCATION:Tönisvorst-Vorst
UID:https://www.lebenshilfe-viersen.de/de/veranstaltungen/termine/OH-Rechtsberatung-Fabian.php
URL:https://www.lebenshilfe-viersen.de/de/veranstaltungen/termine/OH-Rechtsberatung-Fabian.php
END:VEVENT
BEGIN:VEVENT
SUMMARY:Rechtsberatung für Mitglieder
DTSTART:20260601T170000
DTEND:20260601T190000
DESCRIPTION:Nur mit Anmeldung - koordiniert durch den Familienunterstützenden Dienst (FuD). Rechtsberatung der Rechtsanwältin Sandra Fabian zu Rechtsfragen im Bereich der Behindertenhilfe.
LOCATION:Tönisvorst-Vorst
UID:https://www.lebenshilfe-viersen.de/de/veranstaltungen/termine/OH-Rechtsberatung-Fabian.php
URL:https://www.lebenshilfe-viersen.de/de/veranstaltungen/termine/OH-Rechtsberatung-Fabian.php
END:VEVENT
BEGIN:VEVENT
SUMMARY:Rechtsberatung für Mitglieder
DTSTART:20260706T170000
DTEND:20260706T190000
DESCRIPTION:Nur mit Anmeldung - koordiniert durch den Familienunterstützenden Dienst (FuD). Rechtsberatung der Rechtsanwältin Sandra Fabian zu Rechtsfragen im Bereich der Behindertenhilfe.
LOCATION:Tönisvorst-Vorst
UID:https://www.lebenshilfe-viersen.de/de/veranstaltungen/termine/OH-Rechtsberatung-Fabian.php
URL:https://www.lebenshilfe-viersen.de/de/veranstaltungen/termine/OH-Rechtsberatung-Fabian.php
END:VEVENT
BEGIN:VEVENT
SUMMARY:Rechtsberatung für Mitglieder
DTSTART:20261005T170000
DTEND:20261005T190000
DESCRIPTION:Nur mit Anmeldung - koordiniert durch den Familienunterstützenden Dienst (FuD). Rechtsberatung der Rechtsanwältin Sandra Fabian zu Rechtsfragen im Bereich der Behindertenhilfe.
LOCATION:Tönisvorst-Vorst
UID:https://www.lebenshilfe-viersen.de/de/veranstaltungen/termine/OH-Rechtsberatung-Fabian.php
URL:https://www.lebenshilfe-viersen.de/de/veranstaltungen/termine/OH-Rechtsberatung-Fabian.php
END:VEVENT
BEGIN:VEVENT
SUMMARY:Rechtsberatung für Mitglieder
DTSTART:20261102T170000
DTEND:20261102T190000
DESCRIPTION:Nur mit Anmeldung - koordiniert durch den Familienunterstützenden Dienst (FuD). Rechtsberatung der Rechtsanwältin Sandra Fabian zu Rechtsfragen im Bereich der Behindertenhilfe.
LOCATION:Tönisvorst-Vorst
UID:https://www.lebenshilfe-viersen.de/de/veranstaltungen/termine/OH-Rechtsberatung-Fabian.php
URL:https://www.lebenshilfe-viersen.de/de/veranstaltungen/termine/OH-Rechtsberatung-Fabian.php
END:VEVENT
BEGIN:VEVENT
SUMMARY:Rechtsberatung für Mitglieder
DTSTART:20261207T170000
DTEND:20261207T190000
DESCRIPTION:Nur mit Anmeldung - koordiniert durch den Familienunterstützenden Dienst (FuD). Rechtsberatung der Rechtsanwältin Sandra Fabian zu Rechtsfragen im Bereich der Behindertenhilfe.
LOCATION:Tönisvorst-Vorst
UID:https://www.lebenshilfe-viersen.de/de/veranstaltungen/termine/OH-Rechtsberatung-Fabian.php
URL:https://www.lebenshilfe-viersen.de/de/veranstaltungen/termine/OH-Rechtsberatung-Fabian.php
END:VEVENT
BEGIN:VEVENT
SUMMARY:Rechtsberatung für Mitglieder
DTSTART:20251201T170000
DTEND:20251201T190000
DESCRIPTION:Nur mit Anmeldung - koordiniert durch den Familienunterstützenden Dienst (FuD). Rechtsberatung der Rechtsanwältin Sandra Fabian zu Rechtsfragen im Bereich der Behindertenhilfe.
LOCATION:Tönisvorst-Vorst
UID:https://www.lebenshilfe-viersen.de/de/veranstaltungen/termine/OH-Rechtsberatung-Fabian.php
URL:https://www.lebenshilfe-viersen.de/de/veranstaltungen/termine/OH-Rechtsberatung-Fabian.php
END:VEVENT
END:VCALENDAR